BEGIN:VCALENDAR
VERSION:2.0
PRODID:-//Events - Staging - ECPv6.11.2//NONSGML v1.0//EN
CALSCALE:GREGORIAN
METHOD:PUBLISH
X-ORIGINAL-URL:https://events-staging.winstonswish.org
X-WR-CALDESC:Events for Events - Staging
REFRESH-INTERVAL;VALUE=DURATION:PT1H
X-Robots-Tag:noindex
X-PUBLISHED-TTL:PT1H
BEGIN:VTIMEZONE
TZID:Europe/London
BEGIN:DAYLIGHT
TZOFFSETFROM:+0000
TZOFFSETTO:+0100
TZNAME:BST
DTSTART:20250330T010000
END:DAYLIGHT
BEGIN:STANDARD
TZOFFSETFROM:+0100
TZOFFSETTO:+0000
TZNAME:GMT
DTSTART:20251026T010000
END:STANDARD
END:VTIMEZONE
BEGIN:VEVENT
DTSTART;VALUE=DATE:20250517
DTEND;VALUE=DATE:20250519
DTSTAMP:20260421T135038
CREATED:20240902T060020Z
LAST-MODIFIED:20250225T120107Z
UID:3135-1747440000-1747612799@events-staging.winstonswish.org
SUMMARY:Jurassic Coast Ultra Challenge
DESCRIPTION:Join 3\,000 adventurers taking on the spectacular Jurassic Coast Ultra Challenge in 2025!\nA challenge event you can take on at your pace. The Jurassic Coast Challenge invites you to walk\, jog or run a distance of your choice\, along a signed route\, with free food and drink at regular rest stops\, plus support including medics\, marshals and massage. Get the ‘Ultra Challenge’ support & hospitality all the way – helping you to push yourself further and achieve something really special for Winston’s Wish. \nJoin 3\,000 adventurers of all experience levels & ages and Walk\, Jog or Run the spectacular Jurassic Coast – a World Heritage Site. Choose from the full 100km challenge\, 75km\, a 50km half challenge\, a 25km quarter\, Jurassic Marathon or even a 10km distance. Starting from Corfe Castle\, the route heads to Swanage\, then along to Lulworth Cove\, past Durdle Door\, with ups and downs all the way to the Weymouth halfway point. \nFor 100km challengers – it’s past Portland Bill\, nature reserves\, along the western end of Chesil Beach to West Bay’s famous cliffs\, before a finish line celebration in vibrant Bridport. It will test spirit & determination but is totally achievable with good preparation and the Ultra Challenge support. With 50km\, 25km and 10km challenge options also available – there’s a challenge here for everyone – and you can join as an individual or as a team of friends or family. \nYou may have to dig deep at times\, you’ll meet new friends along the way\, and the journey will be unforgettable! As you cross the finish line\, you’ll get a big welcome from the cheer squad\, a glass of fizz\, t-shirt\, and a special medal to celebrate your achievement. \nAs Winston’s Wish are an official partner on this event\, you get a 25% discount on the ‘Full Sponsorship’ registration fee when signing up to support us. \nClick below to sign up on the Ultra Challenge website. \nSign upWhat you’ll get:\n\nSign up from £10\nInclusive & fun event with a great atmosphere and camaraderie\nChoose your distance\, including 25km\, 50km\, 100km PLUS a 10km option\nWalk\, jog\, or run – it’s your challenge\, your way!\nA fully signed route\, with a team of ‘Trekmasters’ out on the trail with you\nRegular covered rest stops\, with free hot food & drink\, massages and medics\nAn epic finish line moment\, with a glass of fizz\, medal and t-shirt\nCamping\, transfer and parking options to make getting there & away easy\nFull fundraising support\, and a choice of fundraising options\n\nClick here for full details & pricesWhat you’ll get from us\n\nA branded Winston’s Wish technical t-shirt\nCharity branded headband\nSupport from our dedicated Sports and Challenges Officer\nFundraising resources\nAccess to our ‘Team Winston’ Facebook group
URL:https://events-staging.winstonswish.org/event/jurassic-coast-ultra-challenge/
CATEGORIES:25 in 2025,Trekking,Ultra Challenges
ATTACH;FMTTYPE=image/webp:https://events-staging.winstonswish.org/wp-content/uploads/2021/11/Jurassic-Coast-Ultra-Challenge-3-jpg.webp
END:VEVENT
BEGIN:VEVENT
DTSTART;TZID=Europe/London:20250516T000000
DTEND;TZID=Europe/London:20250518T235900
DTSTAMP:20260421T135038
CREATED:20240822T151932Z
LAST-MODIFIED:20250225T112531Z
UID:5458-1747353600-1747612740@events-staging.winstonswish.org
SUMMARY:3 Peaks Challenge
DESCRIPTION:Take on the big 3 for Winston’s Wish!\nStarting at Fort William\, you will head off towards the first and highest peak – Ben Nevis. Next\, it’s on to the Lake District to conquer Scafell Pike by night. Your final ascent takes place in Snowdonia National Park\, where you’ll climb the mighty Snowdon! \nWith a target trekking time of 15 hours or less\, climbing around 9\,500 feet and covering approximately 22 miles – it’s no wonder the National Three Peaks Challenge is the most highly regarded trekking challenge in the UK! \n\nRegistration fee: £95\nMinimum sponsorship: £920\n\nSign upWhat you’ll get from us\n\nWinston’s Wish technical t-shirt\nAccess to training app from our partners GH Training\nSupport from our dedicated Sports and Challenges Officer\nFundraising resources\nAccess to our ‘Team Winston’ Facebook group
URL:https://events-staging.winstonswish.org/event/3-peaks-challenge/
CATEGORIES:25 in 2025,Trekking,Walking events
ATTACH;FMTTYPE=image/jpeg:https://events-staging.winstonswish.org/wp-content/uploads/2024/08/3-Peaks-challenge.jpg
END:VEVENT
BEGIN:VEVENT
DTSTART;VALUE=DATE:20250503
DTEND;VALUE=DATE:20250505
DTSTAMP:20260421T135038
CREATED:20240902T060001Z
LAST-MODIFIED:20250225T120048Z
UID:3185-1746230400-1746403199@events-staging.winstonswish.org
SUMMARY:Isle of Wight Ultra Challenge
DESCRIPTION:Join us for the Isle of Wight Challenge and take on the island’s costal path!\nA challenge event you can take on at your pace. Join us for the Isle of Wight Challenge and take on the island’s coastal path. 2\,000 adventurers of all experience levels will walk\, jog or run a distance of their choice\, along a fully signed route with free food and drink at regular rest stops\, plus support including medics\, marshals and massage. Get the ‘Ultra Challenge’ support & hospitality all the way – helping you to push yourself further and achieve something really special for Winston’s Wish. \nIt’s along the spectacular southern cliffs\, past the iconic Needles and up to historic Cowes at the half way stop. For Full Island challengers it’s on to the cliffs of Ventnor\, and back to our welcome Base Camp in Chale after an epic 106km journey. It will test spirit & determination but is totally achievable with good preparation and the Ultra Challenge support. With 50km\, 25km and 10km challenge options also available – there’s a challenge here for everyone – and you can join as an individual or as a team of friends or family. \nYou may have to dig deep at times\, you’ll meet new friends along the way\, and the journey will be unforgettable! As you cross the finish line\, you’ll get a big welcome from the cheer squad\, a glass of fizz\, t-shirt\, and a special medal to celebrate your achievement. \nAs Winston’s Wish are an official partner on this event\, you get a 25% discount on the ‘Full Sponsorship’ registration fee when signing up to support us. \nClick below to sign up on the Ultra Challenge website. \nSign upWhat you’ll get:\n\nSign up from £10\nInclusive & fun event with a great atmosphere and camaraderie\nChoose your distance\, including 25km\, 50km\, 100km PLUS a 10 mile option\nWalk\, jog\, or run – it’s your challenge\, your way!\nA fully signed route\, with a team of ‘Trekmasters’ out on the trail with you\nRegular covered rest stops\, with free hot food & drink\, massages and medics\nAn epic finish line moment\, with a glass of fizz\, medal and t-shirt\nCamping\, transfer and parking options to make getting there & away easy\nFull fundraising support\, and a choice of fundraising options\n\nClick here for full details & pricesWhat you’ll get from us\n\nA branded Winston’s Wish technical t-shirt\nCharity branded headband\nSupport from our dedicated Sports and Challenges Officer\nFundraising resources\nAccess to our ‘Team Winston’ Facebook group
URL:https://events-staging.winstonswish.org/event/ultra-challenge-isle-of-wight/
CATEGORIES:25 in 2025,Trekking,Ultra Challenges
ATTACH;FMTTYPE=image/webp:https://events-staging.winstonswish.org/wp-content/uploads/2021/12/Isle-of-Wight-Ultra-Challenge-5-scaled-1.webp
END:VEVENT
BEGIN:VEVENT
DTSTART;VALUE=DATE:20250412
DTEND;VALUE=DATE:20250413
DTSTAMP:20260421T135038
CREATED:20240902T060031Z
LAST-MODIFIED:20250225T120034Z
UID:3124-1744416000-1744502399@events-staging.winstonswish.org
SUMMARY:Easter 50 Ultra Challenge
DESCRIPTION:Hop into a new challenge this Easter! \nA challenge event you can take on at your pace. The Easter 50 Challenge invites you to walk\, jog or run a distance of your choice\, along a signed route\, with free food and drink at regular rest stops\, plus support including medics\, marshals and massage. Get the ‘Ultra Challenge’ support & hospitality all the way – helping you to push yourself further and achieve something really special for Winston’s Wish. \nFrom the Windsor Racecourse base camp\, 1500 adventurers will head out on looped routes through the Great Park with fantastic views of Windsor Castle\, on to Runnymede\, along the Thames Path\, and takes in some wonderful countryside. You’ll get full support all the way\, a few post Easter surprises\, a celebration finish at base camp\, and a BBQ meal. \nIt’s a great way to kick off the 2025 Ultra Challenge season\, and to get in shape for summer. With 50km\, 25km and 10km challenge options available – there’s a challenge here for everyone – and you can join as an individual or as a team of friends or family. \nYou may have to dig deep at times\, you’ll meet new friends along the way\, and the journey will be unforgettable! As you cross the finish line\, you’ll get a big welcome from the cheer squad\, a glass of fizz\, t-shirt\, and a special medal to celebrate your achievement. \nAs Winston’s Wish are an official partner on this event\, you get a 25% discount on the ‘Full Sponsorship’ registration fee when signing up to support us. \nClick below to sign up on the Ultra Challenge website. \nSign upWhat you’ll get:\n\nSign up from £10\nInclusive & fun event with a great atmosphere and camaraderie\nChoose your distance – 10km\, 25km\, or 50km options\nWalk\, jog\, or run – it’s your challenge\, your way!\nA fully signed route\, with a team of ‘Trekmasters’ out on the trail with you\nRegular covered rest stops\, with free hot food & drink\, massages and medics\nAn epic finish line moment\, with a glass of fizz\, medal and t-shirt\nTransfer and parking options to make getting there & away easy\nFull fundraising support\, and a choice of fundraising options\n\nClick here for full details & pricesWhat you’ll get from us\n\nA branded Winston’s Wish technical t-shirt\nCharity branded headband\nSupport from our dedicated Sports and Challenges Officer\nFundraising resources\nAccess to our ‘Team Winston’ Facebook group
URL:https://events-staging.winstonswish.org/event/easter-50-challenge-ultra/
CATEGORIES:25 in 2025,Challenges,Fundraising,Trekking,Ultra Challenges
ATTACH;FMTTYPE=image/webp:https://events-staging.winstonswish.org/wp-content/uploads/2021/11/Easter-50-Ultra-Challenge-2-jpg.webp
END:VEVENT
BEGIN:VEVENT
DTSTART;TZID=Europe/London:20250125T090000
DTEND;TZID=Europe/London:20250126T235900
DTSTAMP:20260421T135038
CREATED:20240902T060045Z
LAST-MODIFIED:20241216T154054Z
UID:3175-1737795600-1737935940@events-staging.winstonswish.org
SUMMARY:London Winter Walk Ultra Challenge
DESCRIPTION:Start New Year on the right foot! \nA great event to walk off the Christmas celebrations\, and to kick start your New Year fitness regime! There are Full Marathon\, Half Marathon & 10K options\, both starting & finishing at The Oval Cricket Ground on Saturday 25 & Sunday 26 January\, and take in highlights of the Thames\, its historic bridges\, and many of the Capital’s key landmarks. \nFamilies are welcome\, there’s a free winter bobble hat & neck buff\, rest stops with snacks\, with a special medal and hot food at the finish. \nGet the ‘Ultra Challenge’ support & hospitality all the way – helping you to push yourself further and achieve something really special! Whether it’s to enjoy an active day out with friends or colleagues\, or to maintain a New Year fitness regime – there’s a London Winter Walk for you! Join as an Individual or as a team\, and raise funds for Winston’s Wish along the way. \nAs Winston’s Wish are an official partner on this event\, you get a 50% discount on the ‘Full Sponsorship’ registration fee when signing up to support us. \nClick below to sign up on the Ultra Challenge website. \nSign upWhat you’ll get:\n\nSign up from £10\nFree bobble hat\nInclusive & fun event with a great atmosphere and camaraderie\nChoose your distance\, including 10km\, half marathon & full marathon options\nWalk at your own pace!\nA fully signed route\, with a team of ‘Trekmasters’ out on the trail with you\nIndoor rest stops\, with free hot food & drink\, massages and medics\nAn epic finish line moment\, with a glass of fizz\, medal and t-shirt\nFull fundraising support\, and a choice of fundraising options\n\nClick here for full details of prices
URL:https://events-staging.winstonswish.org/event/london-winter-walk-ultra-challenge/
CATEGORIES:25 in 2025,Challenges,Fundraising,Trekking,Ultra Challenges
ATTACH;FMTTYPE=image/webp:https://events-staging.winstonswish.org/wp-content/uploads/2024/09/London-Winter-Walk-5-scaled-1.webp
END:VEVENT
BEGIN:VEVENT
DTSTART;VALUE=DATE:20250125
DTEND;VALUE=DATE:20250330
DTSTAMP:20260421T135038
CREATED:20240902T060001Z
LAST-MODIFIED:20250225T115902Z
UID:5347-1737763200-1743292799@events-staging.winstonswish.org
SUMMARY:Bath 50 Ultra Challenge
DESCRIPTION:Start the Ultra Challenge season right! \nA challenge event you can take on at your pace. The Bath 50 Challenge invites you to walk\, jog or run a distance of your choice\, along a signed route\, with free food and drink at regular rest stops\, plus support including medics\, marshals and massage. Get the ‘Ultra Challenge’ support & hospitality all the way – helping you to push yourself further and achieve something really special for Winston’s Wish. \nCentred on this elegant historic city\, take on a 50 km Ultra\, a testing 29 km\, or a sharp 10 km challenge at your pace! From the Bath Racecourse basecamp\, 2000 adventurers will head out on looped routes around & through Bath – with fantastic panoramic views\, past the famous Royal Crescent\, along the River Avon and taking in many of the city’s sights & sounds and the surrounding countryside. You’ll get full support all the way\, and a celebration finish back at basecamp. It’s a great way to kick off the season\, and start to get in shape! With 25km and 10km challenge options also available – there’s a challenge here for everyone – and you can join as an individual or as a team of friends / family. \nYou may have to dig deep at times\, you’ll meet new friends along the way\, and the journey will be unforgettable! As you cross the finish line\, you’ll get a big welcome from the cheer squad\, a glass of fizz\, t-shirt\, and a special medal to celebrate your achievement. \nAs Winston’s Wish are an official partner on this event\, you get a 25% discount on the ‘Full Sponsorship’ registration fee when signing up to support us. \nClick below to sign up on the Ultra Challenge website. \nSign upWhat you’ll get:\n\nSign up from £10\nInclusive & fun event with a great atmosphere and camaraderie\nChoose your distance – 50km\, 29km and 10km options\nWalk\, jog\, or run – it’s your challenge\, your way!\nA fully signed route\, with a team of ‘Trekmasters’ out on the trail with you\nRegular covered rest stops\, with free hot food & drink\, massages and medics\nAn epic finish line moment\, with a glass of fizz\, medal and t-shirt\nTransfer and parking options to make getting there & away easy\nFull fundraising support\, and a choice of fundraising options\n\nClick here for full details & pricesWhat you’ll get from us\n\nA branded Winston’s Wish technical t-shirt\nCharity branded headband\nSupport from our dedicated Sports and Challenges Officer\nFundraising resources\nAccess to our ‘Team Winston’ Facebook group
URL:https://events-staging.winstonswish.org/event/bath-50-ultra-challenge/
CATEGORIES:25 in 2025,Challenges,Fundraising,Trekking,Ultra Challenges
ATTACH;FMTTYPE=image/jpeg:https://events-staging.winstonswish.org/wp-content/uploads/2024/09/Bath-Ultra-Challenge.jpg
END:VEVENT
END:VCALENDAR