BEGIN:VCALENDAR
VERSION:2.0
PRODID:-//Events - Staging - ECPv6.11.2//NONSGML v1.0//EN
CALSCALE:GREGORIAN
METHOD:PUBLISH
X-ORIGINAL-URL:https://events-staging.winstonswish.org
X-WR-CALDESC:Events for Events - Staging
REFRESH-INTERVAL;VALUE=DURATION:PT1H
X-Robots-Tag:noindex
X-PUBLISHED-TTL:PT1H
BEGIN:VTIMEZONE
TZID:Europe/London
BEGIN:DAYLIGHT
TZOFFSETFROM:+0000
TZOFFSETTO:+0100
TZNAME:BST
DTSTART:20240331T010000
END:DAYLIGHT
BEGIN:STANDARD
TZOFFSETFROM:+0100
TZOFFSETTO:+0000
TZNAME:GMT
DTSTART:20241027T010000
END:STANDARD
BEGIN:DAYLIGHT
TZOFFSETFROM:+0000
TZOFFSETTO:+0100
TZNAME:BST
DTSTART:20250330T010000
END:DAYLIGHT
BEGIN:STANDARD
TZOFFSETFROM:+0100
TZOFFSETTO:+0000
TZNAME:GMT
DTSTART:20251026T010000
END:STANDARD
END:VTIMEZONE
BEGIN:VEVENT
DTSTART;VALUE=DATE:20250823
DTEND;VALUE=DATE:20250824
DTSTAMP:20260421T135037
CREATED:20240902T060025Z
LAST-MODIFIED:20250225T120329Z
UID:5512-1755907200-1755993599@events-staging.winstonswish.org
SUMMARY:London Summer Walk Ultra Challenge
DESCRIPTION:Explore the capital with Winston’s Wish!\nGet active & explore some of the Capital’s historic areas with a tour of the ‘gateway to London’ along the Thames’s eastern section. \nStarting alongside the grandeur of Woolwich Royal Artillery Barracks (short walk from the new Elizabeth Line station!) – the full 50km looped route heads through Charlton\, along the Thames Path to Greenwich and the O2\, Old Royal Naval College & the fabulous Cutty Sark\, then onwards through central London – crossing the Thames via the Millenium footbridge. It’s then past the Tower of London\, and on to the Olympic Park\, before returning to Woolwich via the foot tunnel. \nA route steeped in history with iconic sights\, and capped with a BBQ & bar at the finish – making for a wonderful end of summer celebration! \nAs Winston’s Wish are an official partner on this event\, you get a 25% discount on the ‘Full Sponsorship’ registration fee when signing up to support us. \nClick below to sign up on the Ultra Challenge website. \nSign upWhat you’ll get:\n\nSign up from £10\nInclusive & fun event with a great atmosphere and camaraderie\nChoose your distance – 10km\, 25km\, or 50km options\nWalk at your own pace!\nA fully signed route\, with a team of ‘Trekmasters’ out on the trail with you\nRegular covered rest stops\, with free food & drink\, massages and medics\nAn epic finish line moment\, with a glass of fizz\, medal and t-shirt\nCamping\, transfer and parking options to make getting there & away easy\nFull fundraising support\, and a choice of fundraising options\n\nClick here for full details of pricesWhat you’ll get from us\n\nA branded Winston’s Wish technical t-shirt\nCharity branded headband\nSupport from our dedicated Sports and Challenges Officer\nFundraising resources\nAccess to our ‘Team Winston’ Facebook group
URL:https://events-staging.winstonswish.org/event/london-summer-walk-ultra-challenge/
CATEGORIES:25 in 2025,Challenges,New for 2025,Trekking,Ultra Challenges
ATTACH;FMTTYPE=image/jpeg:https://events-staging.winstonswish.org/wp-content/uploads/2024/08/London-Summer-Walk-3-scaled-1.jpg
END:VEVENT
BEGIN:VEVENT
DTSTART;VALUE=DATE:20250817
DTEND;VALUE=DATE:20250818
DTSTAMP:20260421T135037
CREATED:20241210T101247Z
LAST-MODIFIED:20250225T114141Z
UID:5740-1755388800-1755475199@events-staging.winstonswish.org
SUMMARY:Bike Chester 2025
DESCRIPTION:Cycle through Chester for Winston’s Wish! \nWe are returning to Chester Rugby Club for 2025 and venture through the stunning city of Chester in aid of bereaved children and young people. \n\nSunday 17th August 2025\nRegistration fee from: £32.50 (adults) | £22.50 for under 16’s\nChoose from 29\, 46 or 75 miles\n\nThe medium and long route riders will venture across the border into Wales at Holt and the focal point of the long route is the challenge of the infamous Horseshoe Pass. \nThe short route is a much gentler affair\, suitable for all ages and abilities\, with just 1\,000 feet of elevation and one climb of note through Burwardsley\, east of Tattenhall. \nSign upRoute highlights\n\nRoute map and GPS files\nFeed stations on the 46 & 75 mile routes\nOn course First Aid and mechanical support\nFree event parking\nMedal and food at the end of your ride.\n\nPlease note\, riders under 16 must be accompanied by a participating adult. \nWhat you’ll get from us\n\nWinston’s Wish cycle t-shirt (if you raise over £100)\nSupport from our dedicated Sports and Challenges Officer\nFundraising resources\nAccess to our ‘Team Winston’ Facebook group
URL:https://events-staging.winstonswish.org/event/bike-chester-2025/
CATEGORIES:25 in 2025,Cycling,New for 2025
ATTACH;FMTTYPE=image/jpeg:https://events-staging.winstonswish.org/wp-content/uploads/2024/12/London-to-Paris-Bike-Ride1.jpg
END:VEVENT
BEGIN:VEVENT
DTSTART;VALUE=DATE:20250802
DTEND;VALUE=DATE:20250803
DTSTAMP:20260421T135037
CREATED:20240902T060039Z
LAST-MODIFIED:20250225T120323Z
UID:3223-1754092800-1754179199@events-staging.winstonswish.org
SUMMARY:South West Coast 50 Ultra Challenge
DESCRIPTION:Take on the first Minehead section of the stunning and famous 630 mile Coastal Path for Winston’s Wish!\nA challenge event you can take on at your pace. The South West Coast 50 Challenge invites you to walk\, jog or run a distance of your choice\, along a signed route\, with free food and drink at regular rest stops\, plus support including medics\, marshals and massage. Get the ‘Ultra Challenge’ support & hospitality all the way – helping you to push yourself further and achieve something really special for Winston’s Wish. \nTake on the ‘South West’ challenge for 2025 – taking in the first Minehead section of the stunning & famous 630 mile Coastal Path\, and with an extensive ‘basecamp’ in the shadows of the impressive Dunster Castle. You can pick your distance. The full 50 km loop heads over Exmoor with ups & downs and some magnificent views with over 1600 metres of climb. It will test spirit & determination but is totally achievable with good preparation and the Ultra Challenge support. With 25km and 10km challenge options also available – there’s a challenge here for everyone – and you can join as an individual or as a team of friends or family. You may have to dig deep at times\, you’ll meet new friends along the way\, and the journey will be unforgettable! \nAs you cross the finish line\, you’ll get a big welcome from the cheer squad\, a glass of fizz\, t-shirt\, and a special medal to celebrate your achievement. \nAs Winston’s Wish are an official partner on this event\, you get a 50% discount on the ‘Full Sponsorship’ registration fee when signing up to support us. \nClick below to sign up on the Ultra Challenge website. \nSign upWhat you’ll get:\n\nSign up from £10\nInclusive & fun event with a great atmosphere and camaraderie\n Choose your distance\, including 10k\, 25km and 50km options\nWalk\, jog\, or run – it’s your challenge\, your way!\nA fully signed route\, with a team of ‘Trekmasters’ out on the trail with you\nRegular covered rest stops\, with free hot food & drink\, massages and medics\nAn epic finish line moment\, with a glass of fizz\, medal and t-shirt\nCamping\, transfer and parking options to make getting there & away easy\nFull fundraising support\, and a choice of fundraising options\n\nClick here for full details & pricesWhat you’ll get from us\n\nA branded Winston’s Wish technical t-shirt\nCharity branded headband\nSupport from our dedicated Sports and Challenges Officer\nFundraising resources\nAccess to our ‘Team Winston’ Facebook group
URL:https://events-staging.winstonswish.org/event/south-west-50-ultra-challenge/
CATEGORIES:25 in 2025,New for 2025,Trekking,Ultra Challenges,Walking events
ATTACH;FMTTYPE=image/png:https://events-staging.winstonswish.org/wp-content/uploads/2021/12/South-West-Coast-50-Ultra-Challenge-1.png
END:VEVENT
BEGIN:VEVENT
DTSTART;VALUE=DATE:20250719
DTEND;VALUE=DATE:20250721
DTSTAMP:20260421T135037
CREATED:20240902T060028Z
LAST-MODIFIED:20250225T120315Z
UID:5380-1752883200-1753055999@events-staging.winstonswish.org
SUMMARY:Gower Peninsula Ultra Challenge
DESCRIPTION:Take on the brand-new Ultra Challenge in July 2025!\nA challenge event you can take on at your pace. The Brand New Gower Peninsula Challenge invites you to walk\, jog or run a distance of your choice\, along a signed route\, with free food and drink at regular rest stops\, plus support including medics\, marshals and massage. Get the ‘Ultra Challenge’ support & hospitality all the way – helping you to push yourself further and achieve something really special for Winston’s Wish. \nThis is a new Ultra Challenge for 2025\, set in the stunning Gower Peninsula – the UK’s first Area of Outstanding Natural Beauty and famous for its golden beaches\, limestone cliffs\, wild moors\, ridges\, and woodlands. Our basecamp is in the grounds of the historic Penrice Castle\, with weekend camping options – and the 100km challenge is a figure of 8 route made up of west & east loops which take in the best of the Peninsula\, its history\, and its varied and unique landscape. It will test spirit & determination but is totally achievable with good preparation and the Ultra Challenge support! \nWith 50km\, marathon\, 25km\, and 10K challenge option as well\, and a bar & entertainment at basecamp – this event will be the highlight the season! You may have to dig deep at times\, you’ll meet new friends along the way\, and the journey will be unforgettable! As you cross the finish line\, you’ll get a big welcome from the cheer squad\, a glass of fizz\, t-shirt\, and a special medal to celebrate your achievement. \nAs Winston’s Wish are an official partner on this event\, you get a 25% discount on the ‘Full Sponsorship’ registration fee when signing up to support us. \nClick below to sign up on the Ultra Challenge website. \nSign upWhat you’ll get:\n\nSign up from £10\nInclusive & fun event with a great atmosphere and camaraderie\n Choose your distance\, including 25km\, 50km\, 100km PLUS a 10 mile option\nWalk\, jog\, or run – it’s your challenge\, your way!\nA fully signed route\, with a team of ‘Trekmasters’ out on the trail with you\nRegular covered rest stops\, with free hot food & drink\, massages and medics\nAn epic finish line moment\, with a glass of fizz\, medal and t-shirt\nCamping\, transfer and parking options to make getting there & away easy\nFull fundraising support\, and a choice of fundraising options\n\nClick here for full details & pricesWhat you’ll get from us\n\nA branded Winston’s Wish technical t-shirt\nCharity branded headband\nSupport from our dedicated Sports and Challenges Officer\nFundraising resources\nAccess to our ‘Team Winston’ Facebook group
URL:https://events-staging.winstonswish.org/event/gower-peninsula-ultra-challenge/
CATEGORIES:25 in 2025,Gloucestershire Events,New for 2025,Trekking,Ultra Challenges,Walking events
ATTACH;FMTTYPE=image/webp:https://events-staging.winstonswish.org/wp-content/uploads/2024/08/1600-Cotswold-Runners-2-jpg.webp
END:VEVENT
BEGIN:VEVENT
DTSTART;TZID=Europe/London:20250712T000000
DTEND;TZID=Europe/London:20250713T235900
DTSTAMP:20260421T135037
CREATED:20240823T104141Z
LAST-MODIFIED:20250225T113914Z
UID:5481-1752278400-1752451140@events-staging.winstonswish.org
SUMMARY:Race to the Stones Running Challenge
DESCRIPTION:Be part of the UK’s biggest ultramarathon!\nTake on the UK’s biggest ultramarathon and traverse Britain’s oldest footpath as you race towards the 5000-year-old Avebury Standing Stones. \n\nRegistration fee: £40\nMinimum sponsorship: £250\n\nBritain’s oldest road\, the Ridgeway\, follows the same route over high ground used by herdsmen and travellers since prehistoric times. \nYou will explore a remarkably isolated and unspoilt corner of Southern England through some of its most ancient landscapes\, finishing by the 5000-year-old Avebury Standing Stones\, a UNESCO World Heritage site.’ \nRegister your place here! \nWhat you’ll get from us\n\nA branded Winston’s Wish running vest\nCharity branded headband\nAccess to training app from our partners GH Training\nSupport from our dedicated Sports and Challenges Officer\nFundraising resources\nAccess to our ‘Team Winston’ Facebook group
URL:https://events-staging.winstonswish.org/event/race-to-the-stones-running-challenge/
CATEGORIES:25 in 2025,Marathons,New for 2025,Running
ATTACH;FMTTYPE=image/jpeg:https://events-staging.winstonswish.org/wp-content/uploads/2024/08/Race-to-the-Stones-1.jpg
END:VEVENT
BEGIN:VEVENT
DTSTART;VALUE=DATE:20250622
DTEND;VALUE=DATE:20250623
DTSTAMP:20260421T135037
CREATED:20241210T095946Z
LAST-MODIFIED:20250225T113427Z
UID:5738-1750550400-1750636799@events-staging.winstonswish.org
SUMMARY:Bike Oxford 2025
DESCRIPTION:Take on a historic cycle in 2025! \nBike Oxford is returning to Oxford University Rugby Club\, taking you on a historic journey through the picturesque Oxfordshire countryside with a long route reaching into the Oxfordshire Cotswolds. \n\nSunday 22nd June 2025\nRegistration fee from: £22.50 (adults) | £15 for under 16’s\n\nChoose from four great routes\, either 13\, 25\, 50 and 78 miles. For more information on the route\, click here. \nSign upRoute highlights\n\nRoute map and GPS files\nFeed stations on the 50 & 78 mile routes\nOn course First Aid and mechanical support\nMedal and food at the end of your ride.\n\nPlease note\, riders under 16 must be accompanied by a participating adult. \nWhat you’ll get from us\n\nWinston’s Wish cycle t-shirt (if you raise over £100)\nSupport from our dedicated Sports and Challenges Officer\nFundraising resources\nAccess to our ‘Team Winston’ Facebook group
URL:https://events-staging.winstonswish.org/event/bike-oxford-2025/
CATEGORIES:25 in 2025,Cycling,New for 2025
ATTACH;FMTTYPE=image/jpeg:https://events-staging.winstonswish.org/wp-content/uploads/2024/12/Dragon_Ride_2021_8336005-scaled-e1733824722301.jpg
END:VEVENT
BEGIN:VEVENT
DTSTART;VALUE=DATE:20250927
DTEND;VALUE=DATE:20250928
DTSTAMP:20260421T135037
CREATED:20240902T060010Z
LAST-MODIFIED:20250225T120203Z
UID:5418-1758931200-1759017599@events-staging.winstonswish.org
SUMMARY:Chiltern 50 Ultra Challenge
DESCRIPTION:Discover some of the best of Chilterns countryside in 2025!\nA challenge event you can take on at your pace. The Chiltern 50 Challenge invites you to walk\, jog or run a distance of your choice\, along a signed route\, with free food and drink at regular rest stops\, plus support including medics\, marshals and massage. Get the ‘Ultra Challenge’ support & hospitality all the way – helping you to push yourself further and achieve something really special for Winston’s Wish. \nThis 50km looped route covers some of the best of the Chilterns countryside. You can Walk\, Jog\, or Run along historic trails and over rolling hills. Starting & finishing at a Base Camp in Henley Showground\, there’s a Saturday night celebration BBQ & entertainment with camping options. Passing through nature reserves\, forests\, and a few hills with great views – it’s a route with real variety\, and some wonderful scenery – and it’s all easily accessible from London. With 25km and 10km challenge options also available – there’s a challenge here for everyone – and you can join as an individual or as a team of friends or family. \nYou may have to dig deep at times\, you’ll meet new friends along the way\, and the journey will be unforgettable! As you cross the finish line\, you’ll get a big welcome from the cheer squad\, a glass of fizz\, t-shirt\, and a special medal to celebrate your achievement. \nAs Winston’s Wish are an official partner on this event\, you get a 25% discount on the ‘Full Sponsorship’ registration fee when signing up to support us. \nClick below to sign up on the Ultra Challenge website. \nSign upWhat you’ll get:\n\nSign up from £10\nInclusive & fun event with a great atmosphere and camaraderie\nChoose your distance – 10km\, 25km\, or 50km options\nWalk\, jog\, or run – it’s your challenge\, your way!\nA fully signed route\, with a team of ‘Trekmasters’ out on the trail with you\nRegular covered rest stops\, with free hot food & drink\, massages and medics\nAn epic finish line moment\, with a glass of fizz\, medal and t-shirt\nCamping\, transfer and parking options to make getting there & away easy\nFull fundraising support\, and a choice of fundraising options\n\nClick here for full details & pricesWhat you’ll get from us\n\nA branded Winston’s Wish technical t-shirt\nCharity branded headband\nSupport from our dedicated Sports and Challenges Officer\nFundraising resources\nAccess to our ‘Team Winston’ Facebook group
URL:https://events-staging.winstonswish.org/event/chiltern-50-ultra-challenge/
CATEGORIES:25 in 2025,New for 2025,Trekking,Ultra Challenges,Walking events
ATTACH;FMTTYPE=image/webp:https://events-staging.winstonswish.org/wp-content/uploads/2024/08/Chiltern-50-Ultra-Challenge-5-jpg.webp
END:VEVENT
BEGIN:VEVENT
DTSTART;VALUE=DATE:20250615
DTEND;VALUE=DATE:20250616
DTSTAMP:20260421T135037
CREATED:20241210T094221Z
LAST-MODIFIED:20250225T113346Z
UID:5730-1749945600-1750031999@events-staging.winstonswish.org
SUMMARY:Bike Bath 2025
DESCRIPTION:Cycle through the famous city of Bath!\nLaunched in 2012\, Bike Bath returns to “The Rec” in 2025 to celebrate cycling in this famous city. Under the tower of the historic Bath Abbey and sharing the Rec with the illustrious Bath Rugby Club\, it is an historic venue from which to cycle into the glorious southern Cotswolds. \n\nSunday 15th June 2025\nRegistration fee from: £32.50 (adults) | £22.50 for under 16’s\n\nChoose from three great routes\, either 28\, 54 or 78 miles as you head north towards the picturesque Cotswold. For more information on the route\, click here. \nSign upRoute highlights\n\nRoute map and GPS files\nFeed stations on the 54 & 78 mile routes\nOn course First Aid and mechanical support\nMedal and food at the end of your ride.\n\nPlease note\, riders under 16 must be accompanied by a participating adult. \nWhat you’ll get from us\n\nWinston’s Wish cycle t-shirt (if you raise over £100)\nSupport from our dedicated Sports and Challenges Officer\nFundraising resources\nAccess to our ‘Team Winston’ Facebook group
URL:https://events-staging.winstonswish.org/event/bike-bath-2025/
CATEGORIES:25 in 2025,Cycling,New for 2025
ATTACH;FMTTYPE=image/jpeg:https://events-staging.winstonswish.org/wp-content/uploads/2024/12/John-Wilkinson-Nick-Marc-Dan-RL-2019.jpg
END:VEVENT
BEGIN:VEVENT
DTSTART;VALUE=DATE:20250323
DTEND;VALUE=DATE:20250324
DTSTAMP:20260421T135037
CREATED:20240820T153718Z
LAST-MODIFIED:20250225T112511Z
UID:5438-1742688000-1742774399@events-staging.winstonswish.org
SUMMARY:Hampton Court Palace Half Marathon
DESCRIPTION:Run the famed Hampton Court Palace in March 2025!\nThe Palace Half is a flat and picturesque course that starts and finishes inside Hampton Court Palace. Running at this historic venue offers not only a perfect opportunity to run a personal best but to visit and run inside one of the UK’s major tourist attractions. \nAfter you have finished your run you can then spend some time enjoying the gardens at Hampton Court Palace as access is free for runners on this day only. \n\nRegistration fee: £20\nMinimum sponsorship: £150\n\nSign upWhat you’ll get from us\n\nA branded Winston’s Wish running vest\nCharity branded headband\nAccess to training app from our partners GH Training\nSupport from our dedicated Sports and Challenges Officer\nFundraising resources\nAccess to our ‘Team Winston’ Facebook group
URL:https://events-staging.winstonswish.org/event/hampton-court-palace-half-marathon/
CATEGORIES:25 in 2025,Challenges,New for 2025,Running
ATTACH;FMTTYPE=image/jpeg:https://events-staging.winstonswish.org/wp-content/uploads/2023/11/manchester.jpg
END:VEVENT
BEGIN:VEVENT
DTSTART;TZID=Europe/London:20240101T000000
DTEND;TZID=Europe/London:20241231T000000
DTSTAMP:20260421T135037
CREATED:20231218T130723Z
LAST-MODIFIED:20231227T131848Z
UID:4900-1704067200-1735603200@events-staging.winstonswish.org
SUMMARY:International Challenges
DESCRIPTION:Various dates and locations are available – see the Global Adventure Challenges website for full details \nIf you have a passion for travel and culture\, why not combine it with an incredible once in a lifetime challenge? From climbing Mount Kilimajaro to cycling from Vietnam to Cambodia\, there are so many trips to choose from. You will be looked after by UK and local tour guides\, taste local cuisine and make new friends and memories to treasure forever. No matter what adventure you choose\, you are in for an unforgettable experience. Where will you decide to go?? \nTake a look at some of the challenges available below. \n\nTrekking challenges\nCycling challenges\nSledding challenges\n\nFind out more and sign up
URL:https://events-staging.winstonswish.org/event/international-challenges/
CATEGORIES:25 in 2025,Challenges,New for 2025
ATTACH;FMTTYPE=image/jpeg:https://events-staging.winstonswish.org/wp-content/uploads/2023/12/24-in-24-new-events-webpage-images-GAC.jpg
END:VEVENT
END:VCALENDAR