BEGIN:VCALENDAR
VERSION:2.0
PRODID:-//Events - Staging - ECPv6.11.2//NONSGML v1.0//EN
CALSCALE:GREGORIAN
METHOD:PUBLISH
X-WR-CALNAME:Events - Staging
X-ORIGINAL-URL:https://events-staging.winstonswish.org
X-WR-CALDESC:Events for Events - Staging
REFRESH-INTERVAL;VALUE=DURATION:PT1H
X-Robots-Tag:noindex
X-PUBLISHED-TTL:PT1H
BEGIN:VTIMEZONE
TZID:Europe/London
BEGIN:DAYLIGHT
TZOFFSETFROM:+0000
TZOFFSETTO:+0100
TZNAME:BST
DTSTART:20240331T010000
END:DAYLIGHT
BEGIN:STANDARD
TZOFFSETFROM:+0100
TZOFFSETTO:+0000
TZNAME:GMT
DTSTART:20241027T010000
END:STANDARD
BEGIN:DAYLIGHT
TZOFFSETFROM:+0000
TZOFFSETTO:+0100
TZNAME:BST
DTSTART:20250330T010000
END:DAYLIGHT
BEGIN:STANDARD
TZOFFSETFROM:+0100
TZOFFSETTO:+0000
TZNAME:GMT
DTSTART:20251026T010000
END:STANDARD
END:VTIMEZONE
BEGIN:VEVENT
DTSTART;VALUE=DATE:20250719
DTEND;VALUE=DATE:20250721
DTSTAMP:20260421T122350
CREATED:20240902T060028Z
LAST-MODIFIED:20250225T120315Z
UID:5380-1752883200-1753055999@events-staging.winstonswish.org
SUMMARY:Gower Peninsula Ultra Challenge
DESCRIPTION:Take on the brand-new Ultra Challenge in July 2025!\nA challenge event you can take on at your pace. The Brand New Gower Peninsula Challenge invites you to walk\, jog or run a distance of your choice\, along a signed route\, with free food and drink at regular rest stops\, plus support including medics\, marshals and massage. Get the ‘Ultra Challenge’ support & hospitality all the way – helping you to push yourself further and achieve something really special for Winston’s Wish. \nThis is a new Ultra Challenge for 2025\, set in the stunning Gower Peninsula – the UK’s first Area of Outstanding Natural Beauty and famous for its golden beaches\, limestone cliffs\, wild moors\, ridges\, and woodlands. Our basecamp is in the grounds of the historic Penrice Castle\, with weekend camping options – and the 100km challenge is a figure of 8 route made up of west & east loops which take in the best of the Peninsula\, its history\, and its varied and unique landscape. It will test spirit & determination but is totally achievable with good preparation and the Ultra Challenge support! \nWith 50km\, marathon\, 25km\, and 10K challenge option as well\, and a bar & entertainment at basecamp – this event will be the highlight the season! You may have to dig deep at times\, you’ll meet new friends along the way\, and the journey will be unforgettable! As you cross the finish line\, you’ll get a big welcome from the cheer squad\, a glass of fizz\, t-shirt\, and a special medal to celebrate your achievement. \nAs Winston’s Wish are an official partner on this event\, you get a 25% discount on the ‘Full Sponsorship’ registration fee when signing up to support us. \nClick below to sign up on the Ultra Challenge website. \nSign upWhat you’ll get:\n\nSign up from £10\nInclusive & fun event with a great atmosphere and camaraderie\n Choose your distance\, including 25km\, 50km\, 100km PLUS a 10 mile option\nWalk\, jog\, or run – it’s your challenge\, your way!\nA fully signed route\, with a team of ‘Trekmasters’ out on the trail with you\nRegular covered rest stops\, with free hot food & drink\, massages and medics\nAn epic finish line moment\, with a glass of fizz\, medal and t-shirt\nCamping\, transfer and parking options to make getting there & away easy\nFull fundraising support\, and a choice of fundraising options\n\nClick here for full details & pricesWhat you’ll get from us\n\nA branded Winston’s Wish technical t-shirt\nCharity branded headband\nSupport from our dedicated Sports and Challenges Officer\nFundraising resources\nAccess to our ‘Team Winston’ Facebook group
URL:https://events-staging.winstonswish.org/event/gower-peninsula-ultra-challenge/
CATEGORIES:25 in 2025,Gloucestershire Events,New for 2025,Trekking,Ultra Challenges,Walking events
ATTACH;FMTTYPE=image/webp:https://events-staging.winstonswish.org/wp-content/uploads/2024/08/1600-Cotswold-Runners-2-jpg.webp
END:VEVENT
BEGIN:VEVENT
DTSTART;VALUE=DATE:20250621
DTEND;VALUE=DATE:20250623
DTSTAMP:20260421T122350
CREATED:20240902T060058Z
LAST-MODIFIED:20250225T120214Z
UID:3201-1750464000-1750636799@events-staging.winstonswish.org
SUMMARY:Cotswold Way Ultra Challenge
DESCRIPTION:From tough hills to fantastic views\, the Cotswold Way challenge has it all! \nA challenge event you can take on at your pace. The Cotswold Way invites you to walk\, jog or run a distance of your choice\, along a signed route\, with free food and drink at regular rest stops\, plus support including medics\, marshals and massage. Get the ‘Ultra Challenge’ support & hospitality all the way – helping you to push yourself further and achieve something really special for Winston’s Wish. \nThe magical Cotswold Way provides a stunning setting for a testing challenge – with some fantastic views enroute and tough hills in between! The base-camp in Cirencester is the hub for a full challenge looped route through the heart of the Cotswolds\, which provides a stunning setting for 2\,000 adventurers to test themselves. There are rolling hills\, villages\, the scenic Cotswold Way\, footpaths & trails\, with some fabulous views enroute. \nIt will test your spirit & determination but is totally achievable with good preparation and the Ultra Challenge support. With 50km\, 25km and 10km challenge options also available – there’s a challenge here for everyone – and you can join as an individual or as a team of friends or family. \nYou may have to dig deep at times\, you’ll meet new friends along the way\, and the journey will be unforgettable! As you cross the finish line\, you’ll get a big welcome from the cheer squad\, a glass of fizz\, t-shirt\, and a special medal to celebrate your achievement. \nAs Winston’s Wish are an official partner on this event\, you get a 50% discount on the ‘Full Sponsorship’ registration fee when signing up to support us. \nClick below to sign up on the Ultra Challenge website. \nSign upWhat you’ll get:\n\nSign up from £10\nInclusive & fun event with a great atmosphere and camaraderie\nChoose your distance\, including 25km\, 50km\, 100km PLUS a 10km option\nWalk\, jog\, or run – it’s your challenge\, your way!\nA fully signed route\, with a team of ‘Trekmasters’ out on the trail with you\nRegular covered rest stops\, with free hot food & drink\, massages and medics\nAn epic finish line moment\, with a glass of fizz\, medal and t-shirt\nCamping\, transfer and parking options to make getting there & away easy\nFull fundraising support\, and a choice of fundraising options\n\nClick here for full details & pricesWhat you’ll get from us\n\nA branded Winston’s Wish technical t-shirt\nCharity branded headband\nSupport from our dedicated Sports and Challenges Officer\nFundraising resources\nAccess to our ‘Team Winston’ Facebook group
URL:https://events-staging.winstonswish.org/event/cotswold-way-ultra-challenge/
CATEGORIES:25 in 2025,Gloucestershire Events,Trekking,Ultra Challenges,Walking events
ATTACH;FMTTYPE=image/webp:https://events-staging.winstonswish.org/wp-content/uploads/2021/12/Cotswold-Way-Ultra-Challenge-6-scaled-1.webp
END:VEVENT
BEGIN:VEVENT
DTSTART;VALUE=DATE:20240413
DTEND;VALUE=DATE:20241020
DTSTAMP:20260421T122350
CREATED:20221208T131812Z
LAST-MODIFIED:20240126T153918Z
UID:3847-1712966400-1729382399@events-staging.winstonswish.org
SUMMARY:Inflatable 5K
DESCRIPTION:Take on an inflatable 5K for Winston’s Wish\nTackle a brilliantly bouncy inflatable assault course that’s suitable for the whole family or group of friends to enjoy. Choose an event close to you from the list below and register to join Team Winston in 2023. \nIf you’d like to take part please book directly via the organiser’s website below. \nRegister Now  \nDates and Locations \nDerby – Saturday 13th April 2024 \nSt Albans – Saturday 20th April 2024 \nExeter – Saturday 27th April 2024 \nGuildford – Saturday 11th May 2024 \nBrands Hatch – Saturday 18th May 2024 \nLiverpool – Saturday 8th June 2024 \nWolverhampton – Saturday 22nd June 2024 \nLeeds – Saturday 29th June 2024 \nBristol – Saturday 6th July 2024 \nLincoln – Saturday 13th July 2024 \nSouthampton – Saturday 20th July 2024 \nCoventry – Saturday 20th July 2024 \nCheshire – Saturday 3rd August 2024 \nBasildon – Saturday 17th August 2024 \nMotherwell – Saturday 24th August 2024 \nEdinburgh – Saturday 31st August 2024 \nCarlisle – Saturday 7th September 2024 \nSwansea – Saturday 14th September 2024 \nYork – Saturday 21st September 2024 \nNewbury – Saturday 28th September 2024 \nHaywards Heath – Saturday 5th October 2024 \nNorwich – Saturday 12th October 2024 \nCheltenham – Saturday 19th October 2024 \nWhat you’ll get from us\nSupport from our dedicated Sports and Challenges Officer. \nFundraising resources. \nAccess to our ‘Team Winston’ Facebook group for fundraising ideas\, training tips and motivational stories.
URL:https://events-staging.winstonswish.org/event/inflatable-5k/
CATEGORIES:25 in 2025,Fundraising,Gloucestershire Events,Inflatable 5k,Running
ATTACH;FMTTYPE=image/jpeg:https://events-staging.winstonswish.org/wp-content/uploads/2022/12/Inflatable-5K.jpg
END:VEVENT
END:VCALENDAR