BEGIN:VCALENDAR
VERSION:2.0
PRODID:-//Events - Staging - ECPv6.11.2//NONSGML v1.0//EN
CALSCALE:GREGORIAN
METHOD:PUBLISH
X-WR-CALNAME:Events - Staging
X-ORIGINAL-URL:https://events-staging.winstonswish.org
X-WR-CALDESC:Events for Events - Staging
REFRESH-INTERVAL;VALUE=DURATION:PT1H
X-Robots-Tag:noindex
X-PUBLISHED-TTL:PT1H
BEGIN:VTIMEZONE
TZID:Europe/London
BEGIN:DAYLIGHT
TZOFFSETFROM:+0000
TZOFFSETTO:+0100
TZNAME:BST
DTSTART:20240331T010000
END:DAYLIGHT
BEGIN:STANDARD
TZOFFSETFROM:+0100
TZOFFSETTO:+0000
TZNAME:GMT
DTSTART:20241027T010000
END:STANDARD
BEGIN:DAYLIGHT
TZOFFSETFROM:+0000
TZOFFSETTO:+0100
TZNAME:BST
DTSTART:20250330T010000
END:DAYLIGHT
BEGIN:STANDARD
TZOFFSETFROM:+0100
TZOFFSETTO:+0000
TZNAME:GMT
DTSTART:20251026T010000
END:STANDARD
END:VTIMEZONE
BEGIN:VEVENT
DTSTART;VALUE=DATE:20251031
DTEND;VALUE=DATE:20251101
DTSTAMP:20260421T152536
CREATED:20231219T100527Z
LAST-MODIFIED:20250225T114846Z
UID:4975-1761868800-1761955199@events-staging.winstonswish.org
SUMMARY:Your Skydive challenge
DESCRIPTION:Are you a thrill-seeker looking to take on a challenge and raise money for Winston’s Wish?\nWe have just the thing. Book a skydive today and free-fall from 10\,000 feet reaching speeds of up to 125mph\, before the parachute opens and you gently glide back down to earth. It will be an experience you’ll never forget! \nRegistration fee: £50 – £70 \nMinimum sponsorship: £350 – £395 \nDate: Throughout 2025 \nBook through our partners Go Skydive or Skyline Skydiving and choose your perfect location and date. Please note\, some skydives will happen on fixed dates. \n  \n\n  \n  \nSign up through Go SkydiveSign up through Skyline Skydiving \n\nWhat you’ll get from us\n\nA branded Winston’s Wish t-shirt\nSupport from our dedicated Sports and Challenges Officer\nFundraising resources\nAccess to our ‘Team Winston’ Facebook group\n\n 
URL:https://events-staging.winstonswish.org/event/your-skydive-challenge/
CATEGORIES:25 in 2025,Challenges,Fundraising,New for 2025
ATTACH;FMTTYPE=image/jpeg:https://events-staging.winstonswish.org/wp-content/uploads/2019/02/Skydive-1.jpg
END:VEVENT
BEGIN:VEVENT
DTSTART;VALUE=DATE:20250921
DTEND;VALUE=DATE:20250922
DTSTAMP:20260421T152536
CREATED:20250214T093343Z
LAST-MODIFIED:20250225T115324Z
UID:5948-1758412800-1758499199@events-staging.winstonswish.org
SUMMARY:Tough Mudder
DESCRIPTION:Will you dare to take on the epic Tough Mudder challenge?\nTest your endurance in the famed Tough Mudder challenge for Winston’s Wish. This isn’t your typical run. The Tough Mudder is built on a foundation of teamwork with an inspired obstacle course that is designed to test your strength\, stamina and mental grit. \nDate: May to September 2025\nRegistration fee: £50\nMinimum sponsorship: £125\nLocation: UK Wide \nWith the most innovative 5K & 15K courses and millions of participants worldwide to date\, it is you\, your teammates and muddy strangers working together to conquer the course and earn the world-famous orange headband! \nDo you have what it takes to brave the Tough Mudder challenge? \nSign upWhat you’ll get from us:\nAs a #TeamWinston runner\, we’ll be there every step of the way to help you through the race and get you pumped for running for Winston’s Wish. \n\nA branded Winston’s Wish running vest\nCharity branded headband\nSupport from our dedicated Sports and Challenges Officer\nFundraising resources\nAccess to our ‘Team Winston’ Facebook group\n\nLittle warrior challenge! \nThe Tough Mudder isn’t just for adults! If you have small warriors\, aged 4 to 12\, wanting to join the action\, then they can with the Lidl Mudder events. \nDates and locations vary across the UK with registration starting from £20. \nTo sign up\, head over to the TM website. \nFind out more
URL:https://events-staging.winstonswish.org/event/tough-mudder/
CATEGORIES:25 in 2025,Challenges,New for 2025,Running
ATTACH;FMTTYPE=image/jpeg:https://events-staging.winstonswish.org/wp-content/uploads/2025/02/Tough-Mudder.jpg
END:VEVENT
BEGIN:VEVENT
DTSTART;VALUE=DATE:20250913
DTEND;VALUE=DATE:20250914
DTSTAMP:20260421T152536
CREATED:20240902T060034Z
LAST-MODIFIED:20250225T120353Z
UID:5406-1757721600-1757807999@events-staging.winstonswish.org
SUMMARY:Thames Bridge Ultra Challenge
DESCRIPTION:Join 2\,000 trekkers in an adventure across the capital!\nJoin 2000 trekkers as we venture 25km across the Capital taking in unrivalled views of the skyline from its best vantage points. Follow a signed route\, with free food and drink at regular rest stops\, plus support including medics & marshals. Get the ‘Ultra Challenge’ support & hospitality all the way – helping you to push yourself further and achieve something really special! \nSetting out from Putney Bridge – it’s East towards the City\, zig-zagging over the array of historic bridges – each with its fascinating story – and a midpoint stop at Vauxhall Pleasure Gardens for some snacks & drinks. 25km later\, it’s a finish line celebration in Southwark past the majestic Tower Bridge. \nYour entry includes free food and drink at regular rest stops\, plus support including medics\, marshals and massage. As you cross the finish line\, you’ll get a glass of fizz\, t-shirt\, and a medal to commemorate your achievement. \nAs Winston’s Wish are an official partner on this event\, you get a 25% discount on the ‘Full Sponsorship’ registration fee when signing up to support us. \nClick below to sign up on the Ultra Challenge website. \nSign upWhat you’ll get:\n\nSign up from £10\nInclusive & fun event with a great atmosphere and camaraderie\nChoose your distance\, with a 10km or 25km option\nWalk at your own pace!\nA fully signed route\, with a team of ‘Trekmasters’ out on the trail with you\nRegular covered rest stops\, with free food & drink\, massages and medics\nAn epic finish line moment\, with a glass of fizz\, medal and t-shirt\nFull fundraising support\, and a choice of fundraising options\n\nClick here for full details of pricesWhat you’ll get from us\n\nA branded Winston’s Wish technical t-shirt\nCharity branded headband\nSupport from our dedicated Sports and Challenges Officer\nFundraising resources\nAccess to our ‘Team Winston’ Facebook group
URL:https://events-staging.winstonswish.org/event/thames-bridge-ultra-challenge/
CATEGORIES:25 in 2025,Challenges,Fundraising,New for 2025,Trekking,Ultra Challenges
ATTACH;FMTTYPE=image/webp:https://events-staging.winstonswish.org/wp-content/uploads/2024/09/Thames-Bridges-Trek-5-scaled-1.webp
END:VEVENT
BEGIN:VEVENT
DTSTART;TZID=Europe/London:20250913T080000
DTEND;TZID=Europe/London:20250914T235900
DTSTAMP:20260421T152536
CREATED:20240902T060030Z
LAST-MODIFIED:20250225T120346Z
UID:5415-1757750400-1757894340@events-staging.winstonswish.org
SUMMARY:Thames Path Ultra Challenge
DESCRIPTION:Explore the unique history of London by taking on the Thames Path Ultra Challenge!\nA challenge event you can take on at your pace. The Thames Path Ultra Challenge invites you to walk\, jog or run a distance of your choice\, along a signed route\, with free food and drink at regular rest stops\, plus support including medics\, marshals and massage. Get the ‘Ultra Challenge’ support & hospitality all the way – helping you to push yourself further and achieve something really special for Winston’s Wish. \nThe full Thames Path Ultra Challenge 100km follows England’s greatest river\, from Putney Bridge past Hampton Court to Runnymede of Magna Carta fame at 50km\, then on past wonderful historic scenery all the way to Henley. then on through Windsor and wonderful historic scenery all the way to Henley – and will test spirit & determination but is totally achievable with good preparation and the Ultra Challenge support. With 75km\, 50km\, 25km and 10km challenge options also available – there’s a challenge here for everyone – and you can join as an individual or as a team of friends or family. \nYou may have to dig deep at times\, you’ll meet new friends along the way\, and the journey will be unforgettable! As you cross the finish line\, you’ll get a big welcome from the cheer squad\, a glass of fizz\, t-shirt\, and a special medal to celebrate your achievement. \nAs Winston’s Wish are an official partner on this event\, you get a 25% discount on the ‘Full Sponsorship’ registration fee when signing up to support us. \nClick below to sign up on the Ultra Challenge website. \nSign upWhat you’ll get:\n\nSign up from £10\nInclusive & fun event with a great atmosphere and camaraderie\n Choose your distance\, including 25km\, 50km\, 100km PLUS a Henley 10km option\nWalk at your own pace!\nA fully signed route\, with a team of ‘Trekmasters’ out on the trail with you\nRegular covered rest stops\, with free food & drink\, massages and medics\nAn epic finish line moment\, with a glass of fizz\, medal and t-shirt\nCamping\, transfer and parking options to make getting there & away easy\nFull fundraising support\, and a choice of fundraising options\n\nClick here for full details of pricesWhat you’ll get from us\n\nA branded Winston’s Wish technical t-shirt\nCharity branded headband\nSupport from our dedicated Sports and Challenges Officer\nFundraising resources\nAccess to our ‘Team Winston’ Facebook group
URL:https://events-staging.winstonswish.org/event/thames-path-ultra-challenge/
CATEGORIES:25 in 2025,Challenges,Fundraising,New for 2025,Trekking,Ultra Challenges
ATTACH;FMTTYPE=image/webp:https://events-staging.winstonswish.org/wp-content/uploads/2024/09/Thames-Path-Ultra-Challenge-4-scaled-1.webp
END:VEVENT
BEGIN:VEVENT
DTSTART;VALUE=DATE:20250907
DTEND;VALUE=DATE:20250908
DTSTAMP:20260421T152536
CREATED:20241004T103139Z
LAST-MODIFIED:20250318T151928Z
UID:5558-1757203200-1757289599@events-staging.winstonswish.org
SUMMARY:The Big Half 2025
DESCRIPTION:Explore the heart of London in a vibrant half marathon!\nJoin thousands of other participants in this spectacular half marathon event through the heart of London. The Big Half is a vibrant\, inclusive half marathon with a fun\, festival atmosphere. \nThe Big Half is great for novices and experienced participants alike\, the course winds its way through the capital from Tower Bridge to the iconic Cutty Sark. Come for the finisher’s medal or to celebrate London’s diversity. \nDate: Sunday 7th September \nRegistration fee: £10 \nMinimum sponsorship: £300  \nOur charity places have now SOLD OUT! But you can still join #TeamWinston if you have your own place. Simply\, register your interest below.  \nRun for Winston’s WishWhat you’ll get from us\n\nA branded Winston’s Wish running vest\nCharity branded headband\nAccess to training app from our partners GH Training\nSupport from our dedicated Sports and Challenges Officer\nFundraising resources\nAccess to our ‘Team Winston’ Facebook group
URL:https://events-staging.winstonswish.org/event/the-big-half-2025/
CATEGORIES:25 in 2025,Challenges,Marathons,New for 2025,Running
ATTACH;FMTTYPE=image/jpeg:https://events-staging.winstonswish.org/wp-content/uploads/2024/10/Tower-Bridge-Image-e1727952361532.jpg
END:VEVENT
BEGIN:VEVENT
DTSTART;VALUE=DATE:20250823
DTEND;VALUE=DATE:20250824
DTSTAMP:20260421T152536
CREATED:20240902T060025Z
LAST-MODIFIED:20250225T120329Z
UID:5512-1755907200-1755993599@events-staging.winstonswish.org
SUMMARY:London Summer Walk Ultra Challenge
DESCRIPTION:Explore the capital with Winston’s Wish!\nGet active & explore some of the Capital’s historic areas with a tour of the ‘gateway to London’ along the Thames’s eastern section. \nStarting alongside the grandeur of Woolwich Royal Artillery Barracks (short walk from the new Elizabeth Line station!) – the full 50km looped route heads through Charlton\, along the Thames Path to Greenwich and the O2\, Old Royal Naval College & the fabulous Cutty Sark\, then onwards through central London – crossing the Thames via the Millenium footbridge. It’s then past the Tower of London\, and on to the Olympic Park\, before returning to Woolwich via the foot tunnel. \nA route steeped in history with iconic sights\, and capped with a BBQ & bar at the finish – making for a wonderful end of summer celebration! \nAs Winston’s Wish are an official partner on this event\, you get a 25% discount on the ‘Full Sponsorship’ registration fee when signing up to support us. \nClick below to sign up on the Ultra Challenge website. \nSign upWhat you’ll get:\n\nSign up from £10\nInclusive & fun event with a great atmosphere and camaraderie\nChoose your distance – 10km\, 25km\, or 50km options\nWalk at your own pace!\nA fully signed route\, with a team of ‘Trekmasters’ out on the trail with you\nRegular covered rest stops\, with free food & drink\, massages and medics\nAn epic finish line moment\, with a glass of fizz\, medal and t-shirt\nCamping\, transfer and parking options to make getting there & away easy\nFull fundraising support\, and a choice of fundraising options\n\nClick here for full details of pricesWhat you’ll get from us\n\nA branded Winston’s Wish technical t-shirt\nCharity branded headband\nSupport from our dedicated Sports and Challenges Officer\nFundraising resources\nAccess to our ‘Team Winston’ Facebook group
URL:https://events-staging.winstonswish.org/event/london-summer-walk-ultra-challenge/
CATEGORIES:25 in 2025,Challenges,New for 2025,Trekking,Ultra Challenges
ATTACH;FMTTYPE=image/jpeg:https://events-staging.winstonswish.org/wp-content/uploads/2024/08/London-Summer-Walk-3-scaled-1.jpg
END:VEVENT
BEGIN:VEVENT
DTSTART;VALUE=DATE:20250412
DTEND;VALUE=DATE:20250413
DTSTAMP:20260421T152536
CREATED:20240902T060031Z
LAST-MODIFIED:20250225T120034Z
UID:3124-1744416000-1744502399@events-staging.winstonswish.org
SUMMARY:Easter 50 Ultra Challenge
DESCRIPTION:Hop into a new challenge this Easter! \nA challenge event you can take on at your pace. The Easter 50 Challenge invites you to walk\, jog or run a distance of your choice\, along a signed route\, with free food and drink at regular rest stops\, plus support including medics\, marshals and massage. Get the ‘Ultra Challenge’ support & hospitality all the way – helping you to push yourself further and achieve something really special for Winston’s Wish. \nFrom the Windsor Racecourse base camp\, 1500 adventurers will head out on looped routes through the Great Park with fantastic views of Windsor Castle\, on to Runnymede\, along the Thames Path\, and takes in some wonderful countryside. You’ll get full support all the way\, a few post Easter surprises\, a celebration finish at base camp\, and a BBQ meal. \nIt’s a great way to kick off the 2025 Ultra Challenge season\, and to get in shape for summer. With 50km\, 25km and 10km challenge options available – there’s a challenge here for everyone – and you can join as an individual or as a team of friends or family. \nYou may have to dig deep at times\, you’ll meet new friends along the way\, and the journey will be unforgettable! As you cross the finish line\, you’ll get a big welcome from the cheer squad\, a glass of fizz\, t-shirt\, and a special medal to celebrate your achievement. \nAs Winston’s Wish are an official partner on this event\, you get a 25% discount on the ‘Full Sponsorship’ registration fee when signing up to support us. \nClick below to sign up on the Ultra Challenge website. \nSign upWhat you’ll get:\n\nSign up from £10\nInclusive & fun event with a great atmosphere and camaraderie\nChoose your distance – 10km\, 25km\, or 50km options\nWalk\, jog\, or run – it’s your challenge\, your way!\nA fully signed route\, with a team of ‘Trekmasters’ out on the trail with you\nRegular covered rest stops\, with free hot food & drink\, massages and medics\nAn epic finish line moment\, with a glass of fizz\, medal and t-shirt\nTransfer and parking options to make getting there & away easy\nFull fundraising support\, and a choice of fundraising options\n\nClick here for full details & pricesWhat you’ll get from us\n\nA branded Winston’s Wish technical t-shirt\nCharity branded headband\nSupport from our dedicated Sports and Challenges Officer\nFundraising resources\nAccess to our ‘Team Winston’ Facebook group
URL:https://events-staging.winstonswish.org/event/easter-50-challenge-ultra/
CATEGORIES:25 in 2025,Challenges,Fundraising,Trekking,Ultra Challenges
ATTACH;FMTTYPE=image/webp:https://events-staging.winstonswish.org/wp-content/uploads/2021/11/Easter-50-Ultra-Challenge-2-jpg.webp
END:VEVENT
BEGIN:VEVENT
DTSTART;TZID=Europe/London:20250406T080000
DTEND;TZID=Europe/London:20250406T170000
DTSTAMP:20260421T152536
CREATED:20230515T135939Z
LAST-MODIFIED:20250225T112106Z
UID:4235-1743926400-1743958800@events-staging.winstonswish.org
SUMMARY:London Landmarks Half 2025
DESCRIPTION:6th April 2025\nJoin Team Winston for the 2025 London Landmarks Half Marathon! \nTaking place on closed roads through central London\, it is the only half marathon to go through both the City of London and City of Westminster. \nFrom cultural landmarks and heritage to the city’s quirky and hidden secrets\, runners will get to explore the capital on a route like no other! 10\,000 runners will start on Pall Mall\, will finish by Downing Street and take in fabulous views of London’s most iconic landmarks including Big Ben\, St Paul’s Cathedral\, Nelson’s Column\, the Gherkin\, the Shard\, the Tower of London and the London Eye along the way. \nWe have now sold out of charity places! \nAlready have your own place and want to run for Winston’s Wish? Let us know and start raising money for Winston’s Wish. \nPlease click here for terms and conditions. Please view the London Landmarks website for the event terms and conditions. \nI have my own placeWhat you’ll get from us\n\nA Winston’s Wish running vest\nCharity branded headband\nSupport from our Cheer Squad\nSupport from our dedicated Sports and Challenges Officer\nAccess to training app from our partners GH Training\nFundraising resources\nAccess to our ‘Team Winston’ Facebook group
URL:https://events-staging.winstonswish.org/event/london-landmarks-half-2025/
CATEGORIES:25 in 2025,Challenges,Running
ATTACH;FMTTYPE=image/jpeg:https://events-staging.winstonswish.org/wp-content/uploads/2023/05/London-Landmarks-Half-Marathon.jpg
END:VEVENT
BEGIN:VEVENT
DTSTART;VALUE=DATE:20250323
DTEND;VALUE=DATE:20250324
DTSTAMP:20260421T152536
CREATED:20240820T153718Z
LAST-MODIFIED:20250225T112511Z
UID:5438-1742688000-1742774399@events-staging.winstonswish.org
SUMMARY:Hampton Court Palace Half Marathon
DESCRIPTION:Run the famed Hampton Court Palace in March 2025!\nThe Palace Half is a flat and picturesque course that starts and finishes inside Hampton Court Palace. Running at this historic venue offers not only a perfect opportunity to run a personal best but to visit and run inside one of the UK’s major tourist attractions. \nAfter you have finished your run you can then spend some time enjoying the gardens at Hampton Court Palace as access is free for runners on this day only. \n\nRegistration fee: £20\nMinimum sponsorship: £150\n\nSign upWhat you’ll get from us\n\nA branded Winston’s Wish running vest\nCharity branded headband\nAccess to training app from our partners GH Training\nSupport from our dedicated Sports and Challenges Officer\nFundraising resources\nAccess to our ‘Team Winston’ Facebook group
URL:https://events-staging.winstonswish.org/event/hampton-court-palace-half-marathon/
CATEGORIES:25 in 2025,Challenges,New for 2025,Running
ATTACH;FMTTYPE=image/jpeg:https://events-staging.winstonswish.org/wp-content/uploads/2023/11/manchester.jpg
END:VEVENT
BEGIN:VEVENT
DTSTART;TZID=Europe/London:20250125T090000
DTEND;TZID=Europe/London:20250126T235900
DTSTAMP:20260421T152536
CREATED:20240902T060045Z
LAST-MODIFIED:20241216T154054Z
UID:3175-1737795600-1737935940@events-staging.winstonswish.org
SUMMARY:London Winter Walk Ultra Challenge
DESCRIPTION:Start New Year on the right foot! \nA great event to walk off the Christmas celebrations\, and to kick start your New Year fitness regime! There are Full Marathon\, Half Marathon & 10K options\, both starting & finishing at The Oval Cricket Ground on Saturday 25 & Sunday 26 January\, and take in highlights of the Thames\, its historic bridges\, and many of the Capital’s key landmarks. \nFamilies are welcome\, there’s a free winter bobble hat & neck buff\, rest stops with snacks\, with a special medal and hot food at the finish. \nGet the ‘Ultra Challenge’ support & hospitality all the way – helping you to push yourself further and achieve something really special! Whether it’s to enjoy an active day out with friends or colleagues\, or to maintain a New Year fitness regime – there’s a London Winter Walk for you! Join as an Individual or as a team\, and raise funds for Winston’s Wish along the way. \nAs Winston’s Wish are an official partner on this event\, you get a 50% discount on the ‘Full Sponsorship’ registration fee when signing up to support us. \nClick below to sign up on the Ultra Challenge website. \nSign upWhat you’ll get:\n\nSign up from £10\nFree bobble hat\nInclusive & fun event with a great atmosphere and camaraderie\nChoose your distance\, including 10km\, half marathon & full marathon options\nWalk at your own pace!\nA fully signed route\, with a team of ‘Trekmasters’ out on the trail with you\nIndoor rest stops\, with free hot food & drink\, massages and medics\nAn epic finish line moment\, with a glass of fizz\, medal and t-shirt\nFull fundraising support\, and a choice of fundraising options\n\nClick here for full details of prices
URL:https://events-staging.winstonswish.org/event/london-winter-walk-ultra-challenge/
CATEGORIES:25 in 2025,Challenges,Fundraising,Trekking,Ultra Challenges
ATTACH;FMTTYPE=image/webp:https://events-staging.winstonswish.org/wp-content/uploads/2024/09/London-Winter-Walk-5-scaled-1.webp
END:VEVENT
BEGIN:VEVENT
DTSTART;VALUE=DATE:20250125
DTEND;VALUE=DATE:20250330
DTSTAMP:20260421T152536
CREATED:20240902T060001Z
LAST-MODIFIED:20250225T115902Z
UID:5347-1737763200-1743292799@events-staging.winstonswish.org
SUMMARY:Bath 50 Ultra Challenge
DESCRIPTION:Start the Ultra Challenge season right! \nA challenge event you can take on at your pace. The Bath 50 Challenge invites you to walk\, jog or run a distance of your choice\, along a signed route\, with free food and drink at regular rest stops\, plus support including medics\, marshals and massage. Get the ‘Ultra Challenge’ support & hospitality all the way – helping you to push yourself further and achieve something really special for Winston’s Wish. \nCentred on this elegant historic city\, take on a 50 km Ultra\, a testing 29 km\, or a sharp 10 km challenge at your pace! From the Bath Racecourse basecamp\, 2000 adventurers will head out on looped routes around & through Bath – with fantastic panoramic views\, past the famous Royal Crescent\, along the River Avon and taking in many of the city’s sights & sounds and the surrounding countryside. You’ll get full support all the way\, and a celebration finish back at basecamp. It’s a great way to kick off the season\, and start to get in shape! With 25km and 10km challenge options also available – there’s a challenge here for everyone – and you can join as an individual or as a team of friends / family. \nYou may have to dig deep at times\, you’ll meet new friends along the way\, and the journey will be unforgettable! As you cross the finish line\, you’ll get a big welcome from the cheer squad\, a glass of fizz\, t-shirt\, and a special medal to celebrate your achievement. \nAs Winston’s Wish are an official partner on this event\, you get a 25% discount on the ‘Full Sponsorship’ registration fee when signing up to support us. \nClick below to sign up on the Ultra Challenge website. \nSign upWhat you’ll get:\n\nSign up from £10\nInclusive & fun event with a great atmosphere and camaraderie\nChoose your distance – 50km\, 29km and 10km options\nWalk\, jog\, or run – it’s your challenge\, your way!\nA fully signed route\, with a team of ‘Trekmasters’ out on the trail with you\nRegular covered rest stops\, with free hot food & drink\, massages and medics\nAn epic finish line moment\, with a glass of fizz\, medal and t-shirt\nTransfer and parking options to make getting there & away easy\nFull fundraising support\, and a choice of fundraising options\n\nClick here for full details & pricesWhat you’ll get from us\n\nA branded Winston’s Wish technical t-shirt\nCharity branded headband\nSupport from our dedicated Sports and Challenges Officer\nFundraising resources\nAccess to our ‘Team Winston’ Facebook group
URL:https://events-staging.winstonswish.org/event/bath-50-ultra-challenge/
CATEGORIES:25 in 2025,Challenges,Fundraising,Trekking,Ultra Challenges
ATTACH;FMTTYPE=image/jpeg:https://events-staging.winstonswish.org/wp-content/uploads/2024/09/Bath-Ultra-Challenge.jpg
END:VEVENT
BEGIN:VEVENT
DTSTART;VALUE=DATE:20240427
DTEND;VALUE=DATE:20240429
DTSTAMP:20260421T152536
CREATED:20231127T172000Z
LAST-MODIFIED:20241216T092136Z
UID:4812-1714176000-1714348799@events-staging.winstonswish.org
SUMMARY:Wolf Run & Junior Wolf Run
DESCRIPTION:Immerse yourself in the thrill of off-road running and conquer exhilarating man-made and natural obstacles on the legendary Wolf Run courses. Whether you tackle it together with your Wolf Pack or as a lone wolf\, your journey through the mud and rugged terrain will ignite your endorphines and leave you with a true sense of accomplishment. \nRegistration fees  \n10k £64 \n5k £33 \nJunior (7-17) £27 \nNo set fundraising target – raise what you can! \nClick below to sign up through the Wolf Run website. \nSign up
URL:https://events-staging.winstonswish.org/event/wolf-run-april/
CATEGORIES:25 in 2025,Challenges
ATTACH;FMTTYPE=image/jpeg:https://events-staging.winstonswish.org/wp-content/uploads/2023/11/wolf-run.jpg
END:VEVENT
BEGIN:VEVENT
DTSTART;TZID=Europe/London:20240101T000000
DTEND;TZID=Europe/London:20241231T000000
DTSTAMP:20260421T152536
CREATED:20231218T130723Z
LAST-MODIFIED:20231227T131848Z
UID:4900-1704067200-1735603200@events-staging.winstonswish.org
SUMMARY:International Challenges
DESCRIPTION:Various dates and locations are available – see the Global Adventure Challenges website for full details \nIf you have a passion for travel and culture\, why not combine it with an incredible once in a lifetime challenge? From climbing Mount Kilimajaro to cycling from Vietnam to Cambodia\, there are so many trips to choose from. You will be looked after by UK and local tour guides\, taste local cuisine and make new friends and memories to treasure forever. No matter what adventure you choose\, you are in for an unforgettable experience. Where will you decide to go?? \nTake a look at some of the challenges available below. \n\nTrekking challenges\nCycling challenges\nSledding challenges\n\nFind out more and sign up
URL:https://events-staging.winstonswish.org/event/international-challenges/
CATEGORIES:25 in 2025,Challenges,New for 2025
ATTACH;FMTTYPE=image/jpeg:https://events-staging.winstonswish.org/wp-content/uploads/2023/12/24-in-24-new-events-webpage-images-GAC.jpg
END:VEVENT
END:VCALENDAR